BEGIN:VCALENDAR
VERSION:2.0
PRODID:-//Stadtgeschichte München//DE
CALSCALE:GREGORIAN
BEGIN:VEVENT
UID:28054@stadtgeschichte-muenchen.de
SUMMARY:Das verborgene Schienennetz
DESCRIPTION:&lt;p&gt;Was tauchen da für Gleise auf, die kurz darauf unter Beton oder im Dickicht verschwinden? Dies fragte sich Jochen Gottlieb beim Spaziergang und stellt in seinem Vortrag die Ergebnisse seiner privaten Recherche vor: Ausgehend vom Bahnhof Mittersendling führte ein heute weitgehend verfallenes Industrieschienennetz zu Unternehmen wie Agfa, Katzenberger oder zum Heizkraftwerk. Mittersendling war zudem Umsteigebahnhof für Urlauber*innen (Direktverbindung Dortmund-Sendling!) zur Weiterfahrt in die Berge. Noch heute existieren alte Gleisstücke und &quot;vergessene&quot; Waggons.&lt;/p&gt;&lt;p&gt;Im Rahmen der Stadtteilwoche Sendling-Obersendling vom 11. - 17. Juni 2026.&lt;/p&gt;
DTSTART:20260615T183000
DTEND:20260615T200000
LOCATION:MVHS Aidenbachstr. 21
ORGANIZER:MVHS
END:VEVENT
END:VCALENDAR