BEGIN:VCALENDAR
VERSION:2.0
PRODID:-//Stadtgeschichte München//DE
CALSCALE:GREGORIAN
BEGIN:VEVENT
UID:28062@stadtgeschichte-muenchen.de
SUMMARY:Ein wegweisendes soziales Seniorenprojekt
DESCRIPTION:&lt;p&gt;Beim Betreten des Cafés werden Sie sofort von der gemütlichen Atmosphäre mit bequemen Sesseln und dem verlockenden Duft von frischem Kaffee und Kuchen verzaubert. Besonders ist hier, dass Omas und Opas die süßen Köstlichkeiten backen. Erhalten Sie einen Einblick hinter die Kulissen der sozialen Backstube, wo unsere Senior*innen mit viel Liebe und per Hand die süßen Leckereien herstellen und kunstvoll verzieren. Als krönenden Abschluss der Führung genießen Sie Kaffee und Kuchen und erfahren dabei die Geschichte von Kuchentratsch - erzählt aus erster Hand von den Menschen hinter dem Projekt.&lt;/p&gt;
DTSTART:20260323T100000
DTEND:20260323T113000
LOCATION:Kuchentratsch Theresienhöhe 30
ORGANIZER:MVHS
END:VEVENT
END:VCALENDAR