BEGIN:VCALENDAR
VERSION:2.0
PRODID:-//Stadtgeschichte München//DE
CALSCALE:GREGORIAN
BEGIN:VEVENT
UID:28064@stadtgeschichte-muenchen.de
SUMMARY:Pasinger Erinnerungsorte
DESCRIPTION:&lt;p&gt;Wir laden Sie herzlich ein zur Ausstellungseröffnung Pasinger Erinnerungsorte.&lt;/p&gt;&lt;p&gt;Vom einstigen Dorf über die Stadt bis zum heutigen Stadtteil Münchens werden von etwa 30 Bildtafeln markante Orte Gebäude, Denkmäler sowie prägende Ereignisse und Persönlichkeiten der Pasinger Vergangenheit lebendig. Kommen Sie vorbei und entdecken Sie die Geschichte unseres Stadtteils!&lt;/p&gt;&lt;p&gt;Eine Neuauflage des bislang vergriffenen Begleitbuches &quot;Pasinger Erinnerungsorte&quot; ist vorgesehen.&lt;/p&gt;&lt;p&gt;In Kooperation mit dem Institut für zukunftsweisende Geschichte e.V. und dem Pasinger Archiv e.V.&lt;/p&gt;
DTSTART:20260305T180000
DTEND:20260305T193000
LOCATION:MVHS Bäckerstr. 14
ORGANIZER:MVHS
END:VEVENT
END:VCALENDAR