BEGIN:VCALENDAR
VERSION:2.0
PRODID:-//Stadtgeschichte München//DE
CALSCALE:GREGORIAN
BEGIN:VEVENT
UID:28066@stadtgeschichte-muenchen.de
SUMMARY:Pasinger Erinnerungsorte
DESCRIPTION:&lt;p&gt;In einer einstündigen Führung durch die Ausstellung „Pasinger Erinnerungsorte“ gibt Kurator Bernd-Michael Schülke einen Überblick über wichtige Orte der Pasinger Geschichte. Anhand von ca. 30 Bildtafeln werden verschwundene und noch erhaltene Gebäude, Plätze, Industrieanlagen sowie Personen und Ereignisse gezeigt. Die Ausstellung spiegelt die Entwicklung Pasings vom Dorf zur Stadt und seine Eingemeindung nach München 1938 wider und vermittelt ein lebendiges Bild der vergangenen Zeiten.&lt;/p&gt;&lt;p&gt;Eine Neuauflage des bislang vergriffenen Begleitbuches &quot;Pasinger Erinnerungsorte&quot; ist vorgesehen.&lt;/p&gt;&lt;p&gt;In Kooperation mit dem Institut für zukunftsweisende Geschichte e.V. und dem Pasinger Archiv e.V.&lt;/p&gt;
DTSTART:20260416T163000
DTEND:20260416T173000
LOCATION:MVHS Bäckerstr. 14
ORGANIZER:MVHS
END:VEVENT
END:VCALENDAR