BEGIN:VCALENDAR
VERSION:2.0
PRODID:-//Stadtgeschichte München//DE
CALSCALE:GREGORIAN
BEGIN:VEVENT
UID:28072@stadtgeschichte-muenchen.de
SUMMARY:Mit dem Fahrrad durch Allach-Untermenzing
DESCRIPTION:&lt;p&gt;Der Münchner Westen, insbesondere Allach-Untermenzing, erlebt derzeit eine städtebauliche Veränderung, die auch in den nächsten Jahren anhalten wird. Neubaugebiete wie das Diamaltgelände sowie die anstehende Bebauung des Kirschgeländes gehen einher mit einer Entwicklung neuer Verkehrskonzepte und einer Anpassung der Infrastruktur. Bei der kleinen Radtour durch den Stadtteil mit dem jetzigen BA-Vorsitzenden Pascal Fuckerieder werden die Projekte besucht und die neuen Entwicklungen besprochen.&lt;/p&gt;&lt;p&gt;In Kooperation mit dem Bezirksausschuss 23.&lt;/p&gt;&lt;p&gt;Teilnahme auf eigene Gefahr.&lt;/p&gt;
DTSTART:20260508T140000
DTEND:20260508T160000
LOCATION:S2-Bahnhof Allach - Ausgang Oertelplatz
ORGANIZER:MVHS
END:VEVENT
END:VCALENDAR