BEGIN:VCALENDAR
VERSION:2.0
PRODID:-//Stadtgeschichte München//DE
CALSCALE:GREGORIAN
BEGIN:VEVENT
UID:28077@stadtgeschichte-muenchen.de
SUMMARY:Tram-Westtangente
DESCRIPTION:&lt;p&gt;Werfen Sie mit den Stadtwerken München (SWM) einen Blick hinter die Kulissen der Tram-Westtangente. Im „Laimer Herz“ geben wir Ihnen einen Überblick über eines der wichtigsten Münchner Nahverkehrsprojekte, berichten über den aktuellen Stand der Bauarbeiten und erzählen auch über die größten Herausforderungen, die das Neubauprojekt mit sich bringt. Im Anschluss beantworten wir gerne Ihre Fragen und nehmen Sie auf Wunsch mit auf einen kleinen Spaziergang entlang der Strecke.&lt;/p&gt;
DTSTART:20260504T130000
DTEND:20260504T143000
LOCATION:Laimer Herz Fürstenrieder Straße 124
ORGANIZER:MVHS
END:VEVENT
END:VCALENDAR