BEGIN:VCALENDAR
VERSION:2.0
PRODID:-//Stadtgeschichte München//DE
CALSCALE:GREGORIAN
BEGIN:VEVENT
UID:28082@stadtgeschichte-muenchen.de
SUMMARY:Naturerlebnis und Klimaschutz
DESCRIPTION:&lt;p&gt;Das Westkreuz - dieses Quartier im Bezirk 22 ist durch Hochhäuser aus den 1970er Jahren sowie Ein- und Mehrfamilienhäuser geprägt. Mittendrin erstreckt sich der zentrale Grünzug. Hier soll seit langem beispielhaft eine Kombination aus Freizeitflächen und Ökosystemen entstehen. Auf dem Spaziergang wird die Idee eines Klimaparks und die hohe Bedeutung von innerstädtischen Grünzügen als Naherholungsgebiete und Frischluftschneisen erläutert. Zudem wird seine Bedeutung für das Stadtklima sowie eine Vernetzung im Quartier mit fußläufigen Verbindungen dargestellt. Als erster Schritt wurde im Herbst 2025 der Neubau der Jugendfreizeitstätte &quot;s´Fredl&quot; mit den attraktiven und zum Teil öffentlich zugänglichen Außenanlagen offiziell eröffnet.&lt;/p&gt;
DTSTART:20260718T140000
DTEND:20260718T153000
LOCATION:S-Bahnhof Leienfelsstraße, Ausgang Nord
ORGANIZER:MVHS
END:VEVENT
END:VCALENDAR