BEGIN:VCALENDAR
VERSION:2.0
PRODID:-//Stadtgeschichte München//DE
CALSCALE:GREGORIAN
BEGIN:VEVENT
UID:28101@stadtgeschichte-muenchen.de
SUMMARY:Die Blutenburgstraße - eine Straße für das Volk
DESCRIPTION:&lt;p&gt;Die wichtigste Verbindung von Neuhausen nach München war jahrhundertelang der &quot;Neuhauser Fahrtweg&quot;, die jetzige Blutenburgstraße. Zahlreiche interessante Gebäude wurden hier errichtet und bedeutende Neuhauser Bürger*innen wohnten und arbeiteten hier. Ein historischer Gang durch diese Straße, in der es Schulen, Geschäfte, Gasthäuser und Kinos gab und zum Teil heute noch gibt.&lt;/p&gt;&lt;p&gt;In Zusammenarbeit mit der Geschichtswerkstatt Neuhausen e. V.&lt;/p&gt;
DTSTART:20260627T140000
DTEND:20260627T160000
LOCATION:Ecke Blutenburg-/Pappenheimstr.
ORGANIZER:MVHS
END:VEVENT
END:VCALENDAR