BEGIN:VCALENDAR
VERSION:2.0
PRODID:-//Stadtgeschichte München//DE
CALSCALE:GREGORIAN
BEGIN:VEVENT
UID:28106@stadtgeschichte-muenchen.de
SUMMARY:Bäume und Barock im Nymphenburger Löwental
DESCRIPTION:
DTSTART:20260610T180000
DTEND:20260610T200000
LOCATION:Schloss Nymphenburg, vor der Freitreppe
ORGANIZER:MVHS
END:VEVENT
END:VCALENDAR