BEGIN:VCALENDAR
VERSION:2.0
PRODID:-//Stadtgeschichte München//DE
CALSCALE:GREGORIAN
BEGIN:VEVENT
UID:28116@stadtgeschichte-muenchen.de
SUMMARY:Das Dorf Obermenzing - Geschichte und Geschichten
DESCRIPTION:&lt;p&gt;Tauchen Sie ein in über 1200 Jahre lebendige Geschichte! Obermenzing – einst ein kleines, idyllisches Dorf – hat sich zu einem pulsierenden Stadtteil mit Charakter und Charme entwickelt. In unserem historischen Vortrag erfahren Sie spannende Anekdoten, überraschende Fakten und verborgene Geschichten, die selbst alteingesessene Münchner*innen staunen lassen. Entdecken Sie, wie aus einem Dorf mit Tradition eine moderne Siedlung mit Seele wurde!&lt;/p&gt;
DTSTART:20260610T180000
DTEND:20260610T200000
LOCATION:Carlhäusl An der Würm 1
ORGANIZER:MVHS
END:VEVENT
END:VCALENDAR