BEGIN:VCALENDAR
VERSION:2.0
PRODID:-//Stadtgeschichte München//DE
CALSCALE:GREGORIAN
BEGIN:VEVENT
UID:28121@stadtgeschichte-muenchen.de
SUMMARY:Lichtblicke! - Führung zu den -neuen- Kunstwerken im Pasinger Zentrum
DESCRIPTION:&lt;p&gt;In den letzten Jahren sind in Pasing mehrere Kunstwerke im öffentlichen Raum entstanden, die eine besondere Ausstrahlung haben. Viele Kunstwerke wurden auch aus dem Stadtbezirksbudget vom Bezirksausschuss Pasing-Obermenzing gefördert. Bei unserem Spaziergang werden diese vorgestellt und über den Hintergrund der Entstehung und die Motive berichtet.&lt;/p&gt;
DTSTART:20260416T180000
DTEND:20260416T200000
LOCATION:Bücherschrank vor dem Pasinger Rathaus Rathausplatz
ORGANIZER:MVHS
END:VEVENT
END:VCALENDAR