BEGIN:VCALENDAR
VERSION:2.0
PRODID:-//Stadtgeschichte München//DE
CALSCALE:GREGORIAN
BEGIN:VEVENT
UID:28136@stadtgeschichte-muenchen.de
SUMMARY:Pionierinnen der Physik
DESCRIPTION:&lt;p&gt;Die Ahnengalerie der Physik verzeichnet bislang nur wenige „große Frauen“ – wie die zweifache Nobelpreisträgerin Marie Curie oder Lise Meitner, erste Professorin für Physik in Deutschland. Obwohl ihr Anteil wächst, sind Frauen auch heute noch unterrepräsentiert. Vier moderne Wissenschaftler*innen stellen vier etablierte Physikerinnen vor und erklären die wissenschaftlichen Hintergründe. Mit welchen Hindernissen hatten diese Frauen, entsprechend ihrer Zeit, zu kämpfen? Mit welchen Erkenntnissen schrieben sie die Geschichte der Physik fort?&lt;/p&gt;
DTSTART:20260317T183000
DTEND:20260317T203000
LOCATION:Bildungszentrum Einsteinstr. 28
ORGANIZER:MVHS
END:VEVENT
END:VCALENDAR