BEGIN:VCALENDAR
VERSION:2.0
PRODID:-//Stadtgeschichte München//DE
CALSCALE:GREGORIAN
BEGIN:VEVENT
UID:28147@stadtgeschichte-muenchen.de
SUMMARY:Pflanzenschätze der Berge – im Alpinum des Botanischen Gartens
DESCRIPTION:&lt;p&gt;Mit fachkundigem Wissen und kurzweiligen Geschichten führt Sie die kräuterkundige Heilpraktikerin Astrid Süßmuth durch die &quot;Blumenwelt der Berge&quot; - mitten in der Großstadt. Sie lernen typische Heilkräuter der Alpen kennen und erhalten Tipps zu deren Verwendung. Die Veranstaltung findet bei jedem Wetter statt.&lt;/p&gt;
DTSTART:20260617T163000
DTEND:20260617T180000
LOCATION:Botanischer Garten, Eingang zu den Gewächshäusern Menzinger Str. 65
ORGANIZER:MVHS
END:VEVENT
END:VCALENDAR