BEGIN:VCALENDAR
VERSION:2.0
PRODID:-//Stadtgeschichte München//DE
CALSCALE:GREGORIAN
BEGIN:VEVENT
UID:28156@stadtgeschichte-muenchen.de
SUMMARY:Besuch beim Schäfer in der Fröttmaninger Heide
DESCRIPTION:&lt;p&gt;Die Heideflächen im Münchner Norden wurden jahrhundertelang als Schafweiden genutzt – und auch heute noch zieht in den Sommermonaten eine große Herde durch die Südliche Fröttmaninger Heide. Wir besuchen die Herde, beobachten die weidenden Tiere und sprechen mit dem Schäfer Hermann Stadler, der uns Einblick in seinen Berufsalltag gibt (Gehstrecke max. 5 km). Die Veranstaltung findet bei jedem Wetter statt, außer bei Starkregen oder Sturm. In Kooperation mit dem Heideflächenverein Münchener Norden e.V.&lt;/p&gt;
DTSTART:20260714T163000
DTEND:20260714T190000
LOCATION:HeideHaus (U6-Haltestelle Fröttmaning) Admiralbogen 77
ORGANIZER:MVHS
END:VEVENT
END:VCALENDAR