BEGIN:VCALENDAR
VERSION:2.0
PRODID:-//Stadtgeschichte München//DE
CALSCALE:GREGORIAN
BEGIN:VEVENT
UID:28157@stadtgeschichte-muenchen.de
SUMMARY:Ein Juwel vor den Toren der Stadt
DESCRIPTION:&lt;p&gt;Das Isartal ist eine grüne Oase für Menschen und Lebensraum für viele Pflanzen und Tiere. Doch leider steigt der Nutzungsdruck immer weiter und gefährdet damit die Artenvielfalt. Der bekannte und vielfach ausgezeichnete Naturschützer Manfred Siering kennt und liebt das Isartal - schon seit seiner Kindheit. Er erklärt, was das Isartal so besonders macht und welche Pflanzen und Tiere dort leben – und berichtet aus eigener Erfahrung, wie immer mehr Arten und Lebensräume verschwinden. Was können wir tun, um dieses Naturjuwel zu bewahren?&lt;/p&gt;
DTSTART:20260317T190000
DTEND:20260317T203000
LOCATION:Grünwald Bürgerhaus Römerschanz Dr.-Max-Str. 1
ORGANIZER:MVHS
END:VEVENT
END:VCALENDAR