BEGIN:VCALENDAR
VERSION:2.0
PRODID:-//Stadtgeschichte München//DE
CALSCALE:GREGORIAN
BEGIN:VEVENT
UID:28158@stadtgeschichte-muenchen.de
SUMMARY:Landschaftliche Vielfalt im Münchner Westen: Biotope und Schutzgebiete
DESCRIPTION:&lt;p&gt;Im Westen Münchens finden sich Wälder, Wiesen, Heiden und Gewässer, die nicht nur für uns Menschen einen Besuch lohnen, sondern auch vielen Pflanzen und Tieren Heimat bieten. Herr Greßirer vom Bund Naturschutz in Bayern e. V. erklärt, was diese Gebiete auszeichnet und wie wir sie schützen können. Nach einem kurzen Überblick geht er insbesondere auf die Schutzgebiete Allacher und Aubinger Lohe ein. Damit Sie bei Ihrem nächsten Spaziergang die Natur mit anderen Augen sehen!&lt;/p&gt;
DTSTART:20260618T190000
DTEND:20260618T203000
LOCATION:MVHS Bäckerstr. 14
ORGANIZER:MVHS
END:VEVENT
END:VCALENDAR