BEGIN:VCALENDAR
VERSION:2.0
PRODID:-//Stadtgeschichte München//DE
CALSCALE:GREGORIAN
BEGIN:VEVENT
UID:28159@stadtgeschichte-muenchen.de
SUMMARY:Gartenkunst, Baumgiganten und Wildkräuter im Schlosspark Nymphenburg - mit Verkostung
DESCRIPTION:&lt;p&gt;An kaum einem anderen Ort in München treffen klassische Gartenkunst, Architektur und Natur so idyllisch zusammen wie im Schlosspark. Wir wandeln unter mächtigen Bäumen auf den Spuren von Friedrich Ludwig von Sckell, entdecken zwei verträumte Parkschlösschen und erkunden sommerliche Wildkräuter und deren Verwendung in Küche und Volksheilkunde. Zum Abschluss stärken wir uns mit selbstgemachter Kräuterlimonade und Broten mit Wildkräuterquark. Die Veranstaltung findet bei jedem Wetter statt, außer bei Starkregen und Gewitter.&lt;/p&gt;
DTSTART:20260620T103000
DTEND:20260620T130000
LOCATION:Schloss Nymphenburg, Freitreppe stadtseitig
ORGANIZER:MVHS
END:VEVENT
END:VCALENDAR