BEGIN:VCALENDAR
VERSION:2.0
PRODID:-//Stadtgeschichte München//DE
CALSCALE:GREGORIAN
BEGIN:VEVENT
UID:28161@stadtgeschichte-muenchen.de
SUMMARY:Vom Marienplatz zum Literaturhaus
DESCRIPTION:&lt;p&gt;Auf dem Weg vom Marienplatz über den Alten Hof zum Max-Joseph-Platz mit Oper und Residenz erfahren Sie Interessantes über die ehemaligen Herrscher und die Stadtgeschichte. Das Literaturhaus, Veranstaltungsort für Lesungen, Ausstellungen und literarischen Diskurs, bietet einen atemberaubenden Blick zur Theatinerkirche. Salvatorkirche und Luitpoldblock liegen in direkter Nachbarschaft. Gehen Sie mit auf Entdeckungsreise in einem Viertel, wo schon Ende des 19. Jahrhunderts Hochfinanz, glamouröse Gastronomie und großbürgerliche Salons residierten.&lt;/p&gt;
DTSTART:20260808T161500
DTEND:20260808T181500
LOCATION:Marienplatz, am Fischbrunnen
ORGANIZER:MVHS
END:VEVENT
END:VCALENDAR