BEGIN:VCALENDAR
VERSION:2.0
PRODID:-//Stadtgeschichte München//DE
CALSCALE:GREGORIAN
BEGIN:VEVENT
UID:28168@stadtgeschichte-muenchen.de
SUMMARY:Die Maximilianstraße
DESCRIPTION:&lt;p&gt;Im 19. Jahrhundert, als sich die Lebenswelt der Münchner Stadtbevölkerung und der Regierungsstil der Monarchie fundamental änderten, war der bayerische König Maximilian II. auf der Suche nach einem „Nationalstil“ für seine neue Prachtstraße. Wir erkunden, aus welchen Quellen sein Architekt Friedrich Bürklein Ideen für die neue Maximilianstraße schöpfte und mit welchen Wünschen des Monarchen er konfrontiert war. Dabei entdecken wir auch spätere Veränderungen im Straßenbild und erinnern an berühmte Protagonist*innen der Luxusmeile.&lt;/p&gt;
DTSTART:20260726T140000
DTEND:20260726T160000
LOCATION:Residenzmodell vor Königsbau, Max-Joseph-Platz
ORGANIZER:MVHS
END:VEVENT
END:VCALENDAR