BEGIN:VCALENDAR
VERSION:2.0
PRODID:-//Stadtgeschichte München//DE
CALSCALE:GREGORIAN
BEGIN:VEVENT
UID:28170@stadtgeschichte-muenchen.de
SUMMARY:Der Münchner Justizpalast – Architektur und Rechtsgeschichte
DESCRIPTION:&lt;p&gt;Die Architektur des Justizpalastes von Friedrich Thiersch besticht trotz erheblicher Kriegsbeschädigungen durch neobarocke Großzügigkeit des Außenbaus wie vor allem des zentralen Treppenhauses und durch eine gelungene Umsetzung der funktionalen Anforderungen. Gleichzeitig steht der Bau durch die beiden Prozesse gegen die Mitglieder der Weißen Rose 1943 auch beispielhaft für das Unrechtssystem der NS-Zeit, auf dessen Geschichte und Konsequenzen eine neue Dauerausstellung im Hause hinweist.&lt;/p&gt;
DTSTART:20260702T103000
DTEND:20260702T121500
LOCATION:Justizpalast Prielmayerstr. 7
ORGANIZER:MVHS
END:VEVENT
END:VCALENDAR