BEGIN:VCALENDAR
VERSION:2.0
PRODID:-//Stadtgeschichte München//DE
CALSCALE:GREGORIAN
BEGIN:VEVENT
UID:28176@stadtgeschichte-muenchen.de
SUMMARY:Das Lehel - architektonischer Rundgang durch Münchens vornehmes Vierte
DESCRIPTION:&lt;p&gt;Einst als Vorstadt Münchens gestartet, zeichnet sich das Lehel heute durch seine hohe Lebensqualität mit nahen Grünanlagen und alter Architektur aus. Wo jahrhundertelang Bäche den Bereich zwischen Stadt und Isar durchzogen, entstand ein erster Klosterbau. Es folgte ein neuer Stadtteil, der durch zwei Prachtstraßen geteilt wird: die Maximilianstraße im Süden und die Prinzregentenstraße im Norden. Der architektonische Rundgang mit Neven Denhauser führt durch prächtige Häuserzeilen der Gründerzeit zum Bayerischen Nationalmuseum bis zum Maxmonument.&lt;/p&gt;
DTSTART:20260509T140000
DTEND:20260509T153000
LOCATION:Eingang Pfarrkirche St. Anna St.-Anna-Straße 21A
ORGANIZER:MVHS
END:VEVENT
END:VCALENDAR