BEGIN:VCALENDAR
VERSION:2.0
PRODID:-//Stadtgeschichte München//DE
CALSCALE:GREGORIAN
BEGIN:VEVENT
UID:28179@stadtgeschichte-muenchen.de
SUMMARY:Bauhausarchitektur in München-Neuhausen
DESCRIPTION:&lt;p&gt;Ist die Bauhausmoderne an München spurlos vorbeigegangen? Überzeugen Sie sich vom Gegenteil! Klein, aber fein wirkte die Münchner Postbauschule unter Robert Vorhoelzer, welche die Versuchssiedlung des Bayerischen Post- und Telegraphenverbandes an der Arnulfstraße errichtete. Lohnenswert ist auch ein Besuch der Siedlung Neuhausen, die als Reaktion auf das Münchner Wohnungselend der 1920er-Jahre entstand. Die Architekturhistorikerin Dr. Kaija Voss informiert über das „Münchner Wohnungsbauprogramm“ von 1928–30.&lt;/p&gt;
DTSTART:20260417T140000
DTEND:20260417T153000
LOCATION:Steubenplatz, Bushaltestelle Richtung Rotkreuzplatz
ORGANIZER:MVHS
END:VEVENT
END:VCALENDAR