BEGIN:VCALENDAR
VERSION:2.0
PRODID:-//Stadtgeschichte München//DE
CALSCALE:GREGORIAN
BEGIN:VEVENT
UID:28180@stadtgeschichte-muenchen.de
SUMMARY:Münchens Architektur des Wiederaufbaus und Wirtschaftswunders
DESCRIPTION:&lt;p&gt;Oft übersehen, in die Jahre gekommen und teilweise auch aktiv verachtet, finden sich im Münchner Zentrum zahlreiche architektonische Juwelen sowie Zweckbauten der 1950er- und 1960er-Jahre. Gemeinsam gehen wir auf Spurensuche in der Altstadt und entdecken die Qualitäten der Architektur des Wiederaufbaus und Wirtschaftswunders. Wir beleuchten die Geschichte dahinter und analysieren die Stile der Zeit. Auch soll der Wert dieser Bauten in unserer Gegenwart thematisiert werden. Sind es Denkmäler oder der Zukunft im Wege stehende Ungetüme?&lt;/p&gt;
DTSTART:20260418T140000
DTEND:20260418T153000
LOCATION:vor dem Café Luitpold Brienner Str. 11
ORGANIZER:MVHS
END:VEVENT
END:VCALENDAR