BEGIN:VCALENDAR
VERSION:2.0
PRODID:-//Stadtgeschichte München//DE
CALSCALE:GREGORIAN
BEGIN:VEVENT
UID:28184@stadtgeschichte-muenchen.de
SUMMARY:Die Asamkirche St. Johann-Nepomuk - ein spätbarockes Gesamtkunstwerk
DESCRIPTION:&lt;p&gt;Das Gotteshaus der Brüder Asam ist eine der großartigsten Kunstschöpfungen Münchens. Es ist ein Juwel der Kirchenbaukunst und bildet zusammen mit der Fassade und dem Innenraum ein einmaliges spätbarockes Gesamtkunstwerk. Ab 1733 errichtete der Bildhauer Egid Quirin Asam in der Sendlinger Straße seine Privatkirche. Sein Bruder, der Maler Cosmas Damian, schuf das Deckenfresko. Der beeindruckende Gnadenstuhl ist beispiellos in der barocken Plastik.&lt;/p&gt;
DTSTART:20260808T140000
DTEND:20260808T153000
LOCATION:Asamkirche, im Vorraum Sendlinger Str. 32
ORGANIZER:MVHS
END:VEVENT
END:VCALENDAR