BEGIN:VCALENDAR
VERSION:2.0
PRODID:-//Stadtgeschichte München//DE
CALSCALE:GREGORIAN
BEGIN:VEVENT
UID:28203@stadtgeschichte-muenchen.de
SUMMARY:Marianne von Werefkin (1860– 1938)
DESCRIPTION:&lt;p&gt;Ihr Schwabinger Salon war eine Institution. Hier traf sich die Münchner Avantgarde und diskutierte das Konzept des Blauen Reiters. Ihr intellektuelles Urteil wurde dabei sehr geschätzt. Als gefeierte Malerin war sie mit Alexej Jawlensky aus Russland gekommen, ihn wollte sie fördern und unterstützen. Lange blieb Marianne von Werefkin im Hintergrund. Ihre ausdrucksstarken Bilder sind Zeugnisse einer außergewöhnlichen Künstlerinnenbiografie und einer bewegten Zeit.&lt;/p&gt;
DTSTART:20260316T103000
DTEND:20260316T120000
LOCATION:Bildungszentrum Einsteinstr. 28
ORGANIZER:MVHS
END:VEVENT
END:VCALENDAR