BEGIN:VCALENDAR
VERSION:2.0
PRODID:-//Stadtgeschichte München//DE
CALSCALE:GREGORIAN
BEGIN:VEVENT
UID:28207@stadtgeschichte-muenchen.de
SUMMARY:Gabriel von Seidl (1848-1913) – Zwischen Historismus und Heimatstil
DESCRIPTION:&lt;p&gt;Während der Prinzregentenzeit veränderte sich seine Heimatstadt München rasant, wozu er maßgeblich mit Hilfe seiner beiden Onkel Gabriel und Joseph Sedlmayr beitrug. Ohne ihn wäre München nicht München: Man denke nur an den Stachus, das Lenbach-, Künstler- und Ruffinihaus, das Bayerische Nationalmuseum oder das Deutsche Museum sowie an seine unvergessliche Wirtshausarchitektur.&amp;nbsp;Zudem prägte er als Denkmal- und Naturschützer den Heimatstil im Königreich Bayern, so in Bad Tölz und an vielen anderen Orten.&lt;/p&gt;
DTSTART:20260313T180000
DTEND:20260313T193000
LOCATION:Bildungszentrum Einsteinstr. 28
ORGANIZER:MVHS
END:VEVENT
END:VCALENDAR