BEGIN:VCALENDAR
VERSION:2.0
PRODID:-//Stadtgeschichte München//DE
CALSCALE:GREGORIAN
BEGIN:VEVENT
UID:28209@stadtgeschichte-muenchen.de
SUMMARY:Theodor Fischer (1862-1938)
DESCRIPTION:&lt;p&gt;Mehr als jeder andere hat der Schweinfurter Theodor Fischer den berühmten Le Corbusier beeindruckt. Dieser schätzte an ihm, dass er das historistische Stilempfinden zurückstellte, sich dem Jugendstil, dem Bauhaus, ja, sogar der konstruktiven Auffassung der Moderne zuwandte. Immer wieder überrascht Fischer mit neuen Bauaufgaben und Superlativen. Wie kein anderer Architekt prägte er mit seinen Erweiterungsplänen den Ausbau Münchens und vieler süddeutscher Städte.&lt;/p&gt;
DTSTART:20260401T180000
DTEND:20260401T193000
LOCATION:Bildungszentrum Einsteinstr. 28
ORGANIZER:MVHS
END:VEVENT
END:VCALENDAR