BEGIN:VCALENDAR
VERSION:2.0
PRODID:-//Stadtgeschichte München//DE
CALSCALE:GREGORIAN
BEGIN:VEVENT
UID:28227@stadtgeschichte-muenchen.de
SUMMARY:NieWiederIstJetzt
DESCRIPTION:&lt;p&gt;Am 22. Februar 2026 veranstalten wir von der Bürgerbewegung #NieWiederIstJetzt, zusammen mit dem Nicht Mit Uns e. V., eine kleine Veranstaltung zum Gedenken der Ermordung von den Geschwistern Scholl und Christoph Probst von 16 bis 18 Uhr am Geschwister-Scholl-Platz in München.&lt;/p&gt;&lt;p&gt;Alt-OB Christian Ude wird eine Rede halten und Ron Williams wird musikalisch seinen Beitrag dazu leisten.&lt;/p&gt;
DTSTART:20260222T160000
DTEND:20260222T180000
LOCATION:Geschwister-Scholl-Platz
ORGANIZER:
END:VEVENT
END:VCALENDAR