BEGIN:VCALENDAR
VERSION:2.0
PRODID:-//Stadtgeschichte München//DE
CALSCALE:GREGORIAN
BEGIN:VEVENT
UID:2823@stadtgeschichte-muenchen.de
SUMMARY:Ein fast vergessenes Archttekturbfiro -auf den Spuren von Alois und Rosa Barbist
DESCRIPTION:&lt;div&gt;Auf diesem Rundgang begeben wir uns auf Spurensuche nach den Werken des Architekturb&amp;uuml;ros Barbist. Das fr&amp;uuml;heste bisher bekannte Bauwerk von Alois Barbist (1852-1905) in Sendung ist die Lindwurmstra&amp;szlig;e 92 a. Rosa Barbist, seine Ehefrau, f&amp;uuml;hlte das Baub&amp;uuml;ro - f&amp;uuml;r die Zeit um 1900 eine ebenso bemerkenswerte wie ungew&amp;ouml;hnliche Position. Das &amp;bdquo;Bautechnische B&amp;uuml;ro Rosa Barbist&amp;quot; errichtete an der Lindwurm Stra&amp;szlig;e 205 einen besonders stattlichen Eckbau, ein in mehrfacher Hinsicht interessantes Wohn- und Gesch&amp;auml;ftshaus: Hier befand sich ab 1912 das ..Kaufhaus Gutmann&amp;quot;, dessen Eigent&amp;uuml;mer Emanuel und Sophie Gutmann 1942 nach Theresienstadt deportiert wurden. Gegenstand der F&amp;uuml;hrung sind einige der 19 Sendlinger Barbist-Bauten, die f&amp;uuml;r die M&amp;uuml;nchner Architektur der Prinzregentenzeit so typisch waren und die das Viertel bis heute ma&amp;szlig;geblich pr&amp;auml;gen.Sie sind auch in einer Ausstellung von Dr. Dieter Klein vom 1.9. bis 28.9.2012 in der Sendlinger Kulturschmiede zu sehen. In Kooperation mit der Initiative Historische Lernorte Sendung, die am 23.9. um 11.00 Uhr (Treffpunkt: Daiserstra&amp;szlig;e 22) als Rahmenprogramm zu Ausstellung auch die F&amp;uuml;hrung &amp;bdquo;J&amp;uuml;dische Nachbarn in Untersendling&amp;quot; anbietet.&lt;/div&gt;
DTSTART:20120916T110000
DTEND:20120916T130000
LOCATION:vor dem Haus Lindwurmstr. 205
ORGANIZER:MVHS München Mitte   
END:VEVENT
END:VCALENDAR