BEGIN:VCALENDAR
VERSION:2.0
PRODID:-//Stadtgeschichte München//DE
CALSCALE:GREGORIAN
BEGIN:VEVENT
UID:28231@stadtgeschichte-muenchen.de
SUMMARY:Verschwundene, lebendige und zukünftige Orte im Münchner Osten
DESCRIPTION:&lt;p&gt;Das Dritte*Orte Archiv sammelt Orte, die das Viertel erst so richtig besonders machen. Mit Ihnen! Dritte Orte, das sind jene Orte, an denen wir gerne Zeit verbringen. Früher sind Begegnungen oft ganz natürlich entstanden – eine etablierte Wirtshauskultur, Volksbäder und Kramerläden. Vieles war sehr persönlich. Wenn diese Orte gehen, bleibt Leere zurück. Gemeinsam sammeln wir, was es gab, gibt und geben sollte. Interessant sind nicht nur persönliche Geschichten, sondern auch Erinnerungsstücke oder Fotos, die etwas erzählen.&lt;/p&gt;&lt;p&gt;In Kooperation mit Dritte*Orte Archiv (www.dritteortearchiv.com), dem Alten- und Service-Zentrum Harlaching und Harlachinger Zeitzeugen.&lt;/p&gt;
DTSTART:20260310T140000
DTEND:20260310T160000
LOCATION:Alten- und Service-Zentrum Harlaching, Cafeteria oder Vortragssaal Rotbuchenstr. 32
ORGANIZER:MVHS
END:VEVENT
END:VCALENDAR