BEGIN:VCALENDAR
VERSION:2.0
PRODID:-//Stadtgeschichte München//DE
CALSCALE:GREGORIAN
BEGIN:VEVENT
UID:28233@stadtgeschichte-muenchen.de
SUMMARY:Heil’genbilder, Knödel, Radiweiber
DESCRIPTION:&lt;p&gt;Im gesellschaftlichen Leben dominierte das Beschauliche. Tatsächlich aber ging es rund: Prachtstraßen und ein Gürtel neu angelegter Plätze sorgten für die Anbindung künftiger Vorstädte. Das erste protestantische Gotteshaus und die erste nachmittelalterliche Synagoge zeugten von einer zuvor nicht gekannten religiösen Vielfalt. Und das Maffei’sche „Eisenwerk Hirschau“ stellte mit dem Bau seiner ersten Lokomotive die Weichen in Richtung Industrialisierung. Zwischen 1815 und 1848 machte sich München auf, eine moderne Metropole zu werden.&lt;/p&gt;
DTSTART:20260310T110000
DTEND:20260310T123000
LOCATION:
ORGANIZER:Histonauten
END:VEVENT
END:VCALENDAR