BEGIN:VCALENDAR
VERSION:2.0
PRODID:-//Stadtgeschichte München//DE
CALSCALE:GREGORIAN
BEGIN:VEVENT
UID:28238@stadtgeschichte-muenchen.de
SUMMARY:Besuch bei der Autobahn Südbayern - Autobahnmeisterei München-West
DESCRIPTION:&lt;p&gt;&quot;Achtung! Gefahrenmeldung! Auf der A8 Richtung Stuttgart zwischen Sulzemoos und Odelzhausen liegt ein Fahrrad auf der rechten Spur&quot; - was nach einer kuriosen Radiomeldung klingt, ist Alltag für die Autobahnmeisterei. Aber wie kommt das Fahrrad wieder von der Autobahn? Was macht ein Räumfahrzeug im Sommer? Und was gibt es sonst noch zu tun, damit wir sicher von A nach B kommen? Spannende Antworten liefert der eindrucksvolle Blick hinter die Kulissen der Autobahnmeisterei München-West der Autobahn Südbayern.&lt;/p&gt;
DTSTART:20260416T150000
DTEND:20260416T163000
LOCATION:Autobahnmeisterei, Bergsonstraße 30
ORGANIZER:MVHS
END:VEVENT
END:VCALENDAR