BEGIN:VCALENDAR
VERSION:2.0
PRODID:-//Stadtgeschichte München//DE
CALSCALE:GREGORIAN
BEGIN:VEVENT
UID:28240@stadtgeschichte-muenchen.de
SUMMARY:Gottes Nähmaschine
DESCRIPTION:&lt;p&gt;&lt;strong&gt;Lesung &quot;Gottes Nähmaschine&quot;&lt;/strong&gt;&lt;/p&gt;&lt;p&gt;Eine Nähmaschine die verlassen am Straßenrand steht. Eine jüdische Schneiderin, die sich vergebens Hoffnung auf Beschäftigung und dadurch Überleben gemacht hatte.&lt;/p&gt;&lt;p&gt;So das Thema des Titelgedichts im neuen Poesieband vom renommierten Schriftsteller Ludwig Steinherr.&lt;/p&gt;&lt;p&gt;Wir laden Sie ein, an diesem bewegenden Abend teilzunehmen.&lt;/p&gt;&lt;p&gt;Mit Get-Together danach.&lt;/p&gt;&lt;p&gt;Informationen: Terry Swartzberg (0170) 473 3572&lt;/p&gt;&lt;p&gt;&lt;strong&gt;Ludwig Steinherr&lt;/strong&gt; hat über zwanzig Gedichtbände veröffentlicht sowie zehn Novellen, zwei Romane und einen Band mit Theaterstücken, außerdem zahlreiche Beiträge in Anthologien und Zeitschriften des In- und Auslandes (&lt;a href=&quot;https://de.wikipedia.org/wiki/Der_Gro%C3%9Fe_Conrady&quot;&gt;&lt;i&gt;Der Große Conrady&lt;/i&gt;&lt;/a&gt;, &lt;i&gt;Reclams großes Buch der deutschen Gedichte&lt;/i&gt;, &lt;i&gt;World Literature Today&lt;/i&gt;, &lt;i&gt;Modern Poetry in Translation&lt;/i&gt; usw.). 2003 wurde er zum Ordentlichen Mitglied der &lt;a href=&quot;https://de.wikipedia.org/wiki/Bayerische_Akademie_der_Sch%C3%B6nen_K%C3%BCnste&quot;&gt;Bayerischen Akademie der Schönen Künste&lt;/a&gt; gewählt.&lt;/p&gt;&lt;p&gt;&lt;br&gt;&amp;nbsp;&lt;/p&gt;
DTSTART:20260506T190000
DTEND:20260506T203000
LOCATION:Ägyptischen Museum, Gabelsbergerstraße 35
ORGANIZER:STOL.PER.STEI.NE Initiative für München e.V.
END:VEVENT
END:VCALENDAR