BEGIN:VCALENDAR
VERSION:2.0
PRODID:-//Stadtgeschichte München//DE
CALSCALE:GREGORIAN
BEGIN:VEVENT
UID:28242@stadtgeschichte-muenchen.de
SUMMARY:Ein Gang durchs neue Krematorium am Ostfriedhof
DESCRIPTION:&lt;p&gt;Ein Gang durchs neue Krematorium am Ostfriedhof&lt;br&gt;&lt;br&gt;„Erde zur Erde, Asche zur Asche, Staub zum Staub“. Ein verstorbener Mensch verändert sich. Es beginnt eine Transformation des Körpers. Bei der Feuerbestattung im Krematorium geht dieser Prozess sehr schnell. Aber wie funktioniert das? Was passiert da? Kann man Urnen verwechseln? Ist das ökologisch? Ist das ein besonderer Arbeitsplatz? Ein Krematorium regt die Phantasie und die Fragen an. Bei diesem Spaziergang durch das neue Krematorium können all diese Fragen gestellt werden. Der Spaziergang endet im Haus am Ostfriedhof.&lt;/p&gt;
DTSTART:20260324T140000
DTEND:20260324T153000
LOCATION:Vor dem Krematorium (St.-Martin-Straße 41, 81541 München) bei der Skulptur „Phönix). München
ORGANIZER:Evangelisches Bildungswerk e.V.
END:VEVENT
END:VCALENDAR