BEGIN:VCALENDAR
VERSION:2.0
PRODID:-//Stadtgeschichte München//DE
CALSCALE:GREGORIAN
BEGIN:VEVENT
UID:28244@stadtgeschichte-muenchen.de
SUMMARY:Hermann Esser, Hitlers unsolider, aber stets getreuer Gefolgsmann
DESCRIPTION:
DTSTART:20260421T183000
DTEND:20260421T193000
LOCATION:Bayer. Hauptstaatsarchiv (Vortragssaal), Schönfeldstraße 5
ORGANIZER:Historischer Verein von Oberbayern
END:VEVENT
END:VCALENDAR