BEGIN:VCALENDAR
VERSION:2.0
PRODID:-//Stadtgeschichte München//DE
CALSCALE:GREGORIAN
BEGIN:VEVENT
UID:28247@stadtgeschichte-muenchen.de
SUMMARY:Ein König zum Anfassen? Hof, Öffentlichkeit und Herrscherbild unter König  Max I. Joseph
DESCRIPTION:
DTSTART:20260511T183000
DTEND:20260511T193000
LOCATION:Vortragssaal des Bayerischen Hauptstaatsarchivs, Schönfeldstraße 5
ORGANIZER:Historischer Verein von Oberbayern
END:VEVENT
END:VCALENDAR