BEGIN:VCALENDAR
VERSION:2.0
PRODID:-//Stadtgeschichte München//DE
CALSCALE:GREGORIAN
BEGIN:VEVENT
UID:2825@stadtgeschichte-muenchen.de
SUMMARY:Rund um die Holzstraße
DESCRIPTION:&lt;div&gt;An einen bereits 1822 aufgelassenen, gro&amp;szlig;en Holzstapelplatz erinnert der Namen &amp;quot;Holzstra&amp;szlig;e&amp;quot;. Bis hierher wurde aus dem Oberland &amp;uuml;ber Isar und &amp;uuml;ber die Stadtb&amp;auml;che das Holz f&amp;uuml;r M&amp;uuml;nchen herangefl&amp;ouml;sst und getrocknet. L&amp;auml;ngst verschwunden sind auch die einst hier angesiedelten Sagem&amp;uuml;hlen, die mit Wasserkraft betrieben worden sind. Heute l&amp;auml;sst einzig der malerische Westerm&amp;uuml;hlbach diese industrielle Vergangenheit des Glockenbachviertels wenigstens noch ahnen. Um 1900 entstanden eine Reihe von interessanten Wohnh&amp;auml;usern des Historismus und des Jugendstils, die das einzigartige Flair des nobel und teuer gewordenen Stadtteils pr&amp;auml;gen.&lt;/div&gt; &lt;div&gt;&amp;nbsp;&lt;/div&gt; &lt;div&gt;Bezirksausschu&amp;szlig; II zum Tag des Offenen Denkmals&lt;/div&gt;
DTSTART:20120909T110000
DTEND:20120909T000000
LOCATION:Holzplatz
ORGANIZER:
END:VEVENT
END:VCALENDAR