BEGIN:VCALENDAR
VERSION:2.0
PRODID:-//Stadtgeschichte München//DE
CALSCALE:GREGORIAN
BEGIN:VEVENT
UID:28253@stadtgeschichte-muenchen.de
SUMMARY:Big is beautiful Keramische Großplastik
DESCRIPTION:
DTSTART:20260423T180000
DTEND:20260423T190000
LOCATION:Bayerisches Nationalmuseum Prinzregentenstr. 3
ORGANIZER:Bayerisches Nationalmuseum
END:VEVENT
END:VCALENDAR