BEGIN:VCALENDAR
VERSION:2.0
PRODID:-//Stadtgeschichte München//DE
CALSCALE:GREGORIAN
BEGIN:VEVENT
UID:28254@stadtgeschichte-muenchen.de
SUMMARY:Mit Dämonen die Andacht fördern? 
DESCRIPTION:
DTSTART:20260426T110000
DTEND:20260426T120000
LOCATION:Bayerisches Nationalmuseum Prinzregentenstr. 3
ORGANIZER:Bayerisches Nationalmuseum
END:VEVENT
END:VCALENDAR