BEGIN:VCALENDAR
VERSION:2.0
PRODID:-//Stadtgeschichte München//DE
CALSCALE:GREGORIAN
BEGIN:VEVENT
UID:28257@stadtgeschichte-muenchen.de
SUMMARY:Vom Dernier Cri zur Latest Fashion
DESCRIPTION:
DTSTART:20260507T180000
DTEND:20260507T190000
LOCATION:Bayerisches Nationalmuseum Prinzregentenstr. 3
ORGANIZER:Bayerisches Nationalmuseum
END:VEVENT
END:VCALENDAR