BEGIN:VCALENDAR
VERSION:2.0
PRODID:-//Stadtgeschichte München//DE
CALSCALE:GREGORIAN
BEGIN:VEVENT
UID:28259@stadtgeschichte-muenchen.de
SUMMARY:Fantastischer Steinschnitt 
DESCRIPTION:
DTSTART:20260517T110000
DTEND:20260517T120000
LOCATION:Bayerisches Nationalmuseum Prinzregentenstr. 3
ORGANIZER:Bayerisches Nationalmuseum
END:VEVENT
END:VCALENDAR