BEGIN:VCALENDAR
VERSION:2.0
PRODID:-//Stadtgeschichte München//DE
CALSCALE:GREGORIAN
BEGIN:VEVENT
UID:2826@stadtgeschichte-muenchen.de
SUMMARY:Müllersches Volksbad und Maximiliansanlagen
DESCRIPTION:&lt;div&gt;Das Volksbad als Jugendstil-Baujuwel wird allgemein gesch&amp;auml;tzt. Weniger beachtet ist seine st&amp;auml;dtebauliche Wirkung an der Isar und die Einbettung in die um 1850 geschaffenen Maximiliansanlagen. Der Name seines Architekten, Karl Hocheder, ist fast nur noch Insidern bekannt Dabei war sein Werk richtungsweisend flir den modernen B&amp;auml;derbau in Europa. Das Turbinenhaus seines malerischen Maximilianswerkes unterhalb der Maximiliansbr&amp;uuml;cke wirkt geradezu sohlossaftig. Eine besondere&lt;/div&gt; &lt;div&gt;st&amp;auml;dtebauliche Chance, die Aussicht vom Isarhochufer &amp;uuml;ber die Stadt, wartet auf ihre Wiederentdeckung.&lt;/div&gt;
DTSTART:20120902T100000
DTEND:20120902T120000
LOCATION:Müllersches Volksbad, Rosenheimer Str. 1, Haupteingang
ORGANIZER:MVHS München Mitte   
END:VEVENT
END:VCALENDAR