BEGIN:VCALENDAR
VERSION:2.0
PRODID:-//Stadtgeschichte München//DE
CALSCALE:GREGORIAN
BEGIN:VEVENT
UID:28266@stadtgeschichte-muenchen.de
SUMMARY:Porzellan- und Seidenmalerei 
DESCRIPTION:
DTSTART:20260611T180000
DTEND:20260611T190000
LOCATION:Bayerisches Nationalmuseum Prinzregentenstr. 3
ORGANIZER:Bayerisches Nationalmuseum
END:VEVENT
END:VCALENDAR