BEGIN:VCALENDAR
VERSION:2.0
PRODID:-//Stadtgeschichte München//DE
CALSCALE:GREGORIAN
BEGIN:VEVENT
UID:28267@stadtgeschichte-muenchen.de
SUMMARY:Spitäler in den Münchner Stadtmodellen
DESCRIPTION:
DTSTART:20260614T110000
DTEND:20260614T120000
LOCATION:Bayerisches Nationalmuseum Prinzregentenstr. 3
ORGANIZER:Bayerisches Nationalmuseum
END:VEVENT
END:VCALENDAR