BEGIN:VCALENDAR
VERSION:2.0
PRODID:-//Stadtgeschichte München//DE
CALSCALE:GREGORIAN
BEGIN:VEVENT
UID:28282@stadtgeschichte-muenchen.de
SUMMARY:Meisterwerk Exekias-Schale
DESCRIPTION:
DTSTART:20260603T180000
DTEND:20260603T190000
LOCATION:Königsplatz, Eingang Antikensammlungen
ORGANIZER:Staatliche Antikensammlungen
END:VEVENT
END:VCALENDAR