BEGIN:VCALENDAR
VERSION:2.0
PRODID:-//Stadtgeschichte München//DE
CALSCALE:GREGORIAN
BEGIN:VEVENT
UID:2829@stadtgeschichte-muenchen.de
SUMMARY:München leuchtete - Altschwabing
DESCRIPTION:&lt;div&gt;Vom ehemaligen Dorf Schwabing zeugen nur noch wenige Reste rund um die heutige St. Silvester-Kirche, die in Teilen noch aus der Gotik stammt. Seit den 1870er Jahren wandelte sich Schwabing zum weltber&amp;uuml;hmten K&amp;uuml;nstlerviertel, in dem neben Handwerkern, Tagel&amp;ouml;hnern und vielen bedeutenden K&amp;uuml;nstlern auch Bankdirektoren oder Schriftsteller, wie z.B. Thomas Mann lebten, 1887 wurde Schwabing zur Stadt erhoben, aber bereits 1890 nach M&amp;uuml;nchen eingemeindet. Auf unserem Rundgang sehen wir die letzten derBauemh&amp;auml;user, kleinb&amp;uuml;rgerliche Handwerkerhiuiser, malerische Villen und auch das &amp;bdquo;erste Luxusraietshaus von M&amp;uuml;nchen&amp;quot; beim Siegestor. Dort gab es bis zu 700 Quadratmeter gro&amp;szlig;e Wohnungen, in einer davon wurde der &amp;bdquo;Inselverlag&amp;quot; gegr&amp;uuml;ndet, der gro&amp;szlig;en Einfluss auf die Jugendstilgraphik hatte&amp;laquo;.&lt;/div&gt;
DTSTART:20120715T140000
DTEND:20120715T160000
LOCATION:U-Bahn Station, Münchner Freiheit 
ORGANIZER:MVHS München Mitte   
END:VEVENT
END:VCALENDAR