BEGIN:VCALENDAR
VERSION:2.0
PRODID:-//Stadtgeschichte München//DE
CALSCALE:GREGORIAN
BEGIN:VEVENT
UID:28291@stadtgeschichte-muenchen.de
SUMMARY:Die Römer und die griechischen Staaten
DESCRIPTION:
DTSTART:20260409T180000
DTEND:20260409T190000
LOCATION:Glyptothek Königsplatz 3
ORGANIZER:Glyptothek
END:VEVENT
END:VCALENDAR