BEGIN:VCALENDAR
VERSION:2.0
PRODID:-//Stadtgeschichte München//DE
CALSCALE:GREGORIAN
BEGIN:VEVENT
UID:28292@stadtgeschichte-muenchen.de
SUMMARY:Das Bildnis des Alexander
DESCRIPTION:
DTSTART:20260416T180000
DTEND:20260416T190000
LOCATION:Glyptothek Königsplatz 3
ORGANIZER:Glyptothek
END:VEVENT
END:VCALENDAR