BEGIN:VCALENDAR
VERSION:2.0
PRODID:-//Stadtgeschichte München//DE
CALSCALE:GREGORIAN
BEGIN:VEVENT
UID:28312@stadtgeschichte-muenchen.de
SUMMARY:Max Emanuels imperiale Ambitionen
DESCRIPTION:
DTSTART:20260418T140000
DTEND:20260418T153000
LOCATION:Kasse Neues Schloss Schleißheim
ORGANIZER:Bayerische Schlösserverwaltung
END:VEVENT
END:VCALENDAR