BEGIN:VCALENDAR
VERSION:2.0
PRODID:-//Stadtgeschichte München//DE
CALSCALE:GREGORIAN
BEGIN:VEVENT
UID:2839@stadtgeschichte-muenchen.de
SUMMARY:Der kurfürstliche Hofarchitekt Joseph Effner
DESCRIPTION:
DTSTART:20120707T140000
DTEND:20120707T000000
LOCATION:Eingang CafÃ© Schloss Dachau
ORGANIZER:Bayerische Schlösserverwaltung
END:VEVENT
END:VCALENDAR